Package: RCAS Version: 1.33.0 Command: chmod a+r RCAS -R && E:\biocbuild\bbs-3.21-bioc\R\bin\R.exe CMD build --keep-empty-dirs --no-resave-data RCAS StartedAt: 2025-02-19 21:04:32 -0500 (Wed, 19 Feb 2025) EndedAt: 2025-02-19 21:08:07 -0500 (Wed, 19 Feb 2025) EllapsedTime: 214.7 seconds RetCode: 0 Status: OK PackageFile: RCAS_1.33.0.tar.gz PackageFileSize: 1.34 <A href="http://en.wikipedia.org/wiki/MiB" target="_blank">MiB</A>