Package: RCAS
Version: 1.33.0
Command: rm -rf RCAS.buildbin-libdir && mkdir RCAS.buildbin-libdir && E:\biocbuild\bbs-3.21-bioc\R\bin\R.exe CMD INSTALL --build --library=RCAS.buildbin-libdir RCAS_1.33.0.tar.gz
StartedAt: 2025-02-19 08:10:54 -0500 (Wed, 19 Feb 2025)
EndedAt: 2025-02-19 08:12:02 -0500 (Wed, 19 Feb 2025)
EllapsedTime: 68.4 seconds
RetCode: 0
Status: OK
PackageFile: RCAS_1.33.0.zip
PackageFileSize: 1.797 <A href="http://en.wikipedia.org/wiki/MiB" target="_blank">MiB</A>