Package: R4RNA Version: 1.35.0 Command: /Library/Frameworks/R.framework/Resources/bin/R CMD INSTALL R4RNA StartedAt: 2025-02-19 15:10:50 -0500 (Wed, 19 Feb 2025) EndedAt: 2025-02-19 15:11:06 -0500 (Wed, 19 Feb 2025) EllapsedTime: 15.3 seconds RetCode: 0 Status: OK