Package: R4RNA
Version: 1.35.0
Command: /Library/Frameworks/R.framework/Resources/bin/R CMD build --keep-empty-dirs --no-resave-data R4RNA
StartedAt: 2025-02-19 17:54:20 -0500 (Wed, 19 Feb 2025)
EndedAt: 2025-02-19 17:54:42 -0500 (Wed, 19 Feb 2025)
EllapsedTime: 21.7 seconds
RetCode: 0
Status: OK
PackageFile: R4RNA_1.35.0.tar.gz
PackageFileSize: 903.5 <A href="http://en.wikipedia.org/wiki/KiB" target="_blank">KiB</A>