Package: R4RNA
Version: 1.35.0
Command: rm -rf R4RNA.buildbin-libdir && mkdir R4RNA.buildbin-libdir && /Users/biocbuild/BBS/utils/build-universal.sh R4RNA_1.35.0.tar.gz /Library/Frameworks/R.framework/Resources/bin/R R4RNA.buildbin-libdir
StartedAt: 2025-02-20 00:48:31 -0500 (Thu, 20 Feb 2025)
EndedAt: 2025-02-20 00:48:48 -0500 (Thu, 20 Feb 2025)
EllapsedTime: 17.3 seconds
RetCode: 0
Status: OK
PackageFile: R4RNA_1.35.0.tgz
PackageFileSize: 1.02 <A href="http://en.wikipedia.org/wiki/MiB" target="_blank">MiB</A>