Package: QDNAseq
Version: 1.43.0
Command: E:\biocbuild\bbs-3.21-bioc\R\bin\R.exe CMD INSTALL QDNAseq
StartedAt: 2025-02-19 15:57:19 -0500 (Wed, 19 Feb 2025)
EndedAt: 2025-02-19 15:58:14 -0500 (Wed, 19 Feb 2025)
EllapsedTime: 54.7 seconds
RetCode: 0
Status: OK