Package: QDNAseq
Version: 1.43.0
Command: E:\biocbuild\bbs-3.21-bioc\R\bin\R.exe CMD check --no-multiarch --install=check:QDNAseq.install-out.txt --library=E:\biocbuild\bbs-3.21-bioc\R\library --no-vignettes --timings QDNAseq_1.43.0.tar.gz
StartedAt: 2025-02-20 04:22:35 -0500 (Thu, 20 Feb 2025)
EndedAt: 2025-02-20 04:30:37 -0500 (Thu, 20 Feb 2025)
EllapsedTime: 482.6 seconds
RetCode: 0
Status: OK
CheckDir: QDNAseq.Rcheck
Warnings: 0