Package: QDNAseq Version: 1.43.0 Command: rm -rf QDNAseq.buildbin-libdir && mkdir QDNAseq.buildbin-libdir && E:\biocbuild\bbs-3.21-bioc\R\bin\R.exe CMD INSTALL --build --library=QDNAseq.buildbin-libdir QDNAseq_1.43.0.tar.gz StartedAt: 2025-02-20 08:29:16 -0500 (Thu, 20 Feb 2025) EndedAt: 2025-02-20 08:30:20 -0500 (Thu, 20 Feb 2025) EllapsedTime: 64.3 seconds RetCode: 0 Status: OK PackageFile: QDNAseq_1.43.0.zip PackageFileSize: 1.394 <A href="http://en.wikipedia.org/wiki/MiB" target="_blank">MiB</A>