Package: QDNAseq Version: 1.43.0 Command: /Library/Frameworks/R.framework/Resources/bin/R CMD INSTALL QDNAseq StartedAt: 2025-02-19 15:12:59 -0500 (Wed, 19 Feb 2025) EndedAt: 2025-02-19 15:13:07 -0500 (Wed, 19 Feb 2025) EllapsedTime: 7.5 seconds RetCode: 0 Status: OK