Package: QDNAseq Version: 1.43.0 Command: /Library/Frameworks/R.framework/Resources/bin/R CMD check --install=check:QDNAseq.install-out.txt --library=/Library/Frameworks/R.framework/Resources/library --no-vignettes --timings QDNAseq_1.43.0.tar.gz StartedAt: 2025-02-19 20:54:28 -0500 (Wed, 19 Feb 2025) EndedAt: 2025-02-19 20:57:02 -0500 (Wed, 19 Feb 2025) EllapsedTime: 153.9 seconds RetCode: 0 Status: OK CheckDir: QDNAseq.Rcheck Warnings: 0