Package: QDNAseq Version: 1.43.0 Command: /Library/Frameworks/R.framework/Resources/bin/R CMD build --keep-empty-dirs --no-resave-data QDNAseq StartedAt: 2025-02-19 17:19:37 -0500 (Wed, 19 Feb 2025) EndedAt: 2025-02-19 17:20:00 -0500 (Wed, 19 Feb 2025) EllapsedTime: 22.3 seconds RetCode: 0 Status: OK PackageFile: QDNAseq_1.43.0.tar.gz PackageFileSize: 993.8 <A href="http://en.wikipedia.org/wiki/KiB" target="_blank">KiB</A>