Package: QDNAseq Version: 1.43.0 Command: rm -rf QDNAseq.buildbin-libdir && mkdir QDNAseq.buildbin-libdir && /Users/biocbuild/BBS/utils/build-universal.sh QDNAseq_1.43.0.tar.gz /Library/Frameworks/R.framework/Resources/bin/R QDNAseq.buildbin-libdir StartedAt: 2025-02-19 22:33:53 -0500 (Wed, 19 Feb 2025) EndedAt: 2025-02-19 22:34:01 -0500 (Wed, 19 Feb 2025) EllapsedTime: 8.2 seconds RetCode: 0 Status: OK PackageFile: QDNAseq_1.43.0.tgz PackageFileSize: 1.535 <A href="http://en.wikipedia.org/wiki/MiB" target="_blank">MiB</A>