Package: PolySTest Version: 1.1.0 Command: E:\biocbuild\bbs-3.21-bioc\R\bin\R.exe CMD INSTALL PolySTest StartedAt: 2025-01-31 16:40:39 -0500 (Fri, 31 Jan 2025) EndedAt: 2025-01-31 16:41:14 -0500 (Fri, 31 Jan 2025) EllapsedTime: 35.5 seconds RetCode: 0 Status: OK