Package: PolySTest Version: 1.1.0 Command: rm -rf PolySTest.buildbin-libdir && mkdir PolySTest.buildbin-libdir && /Users/biocbuild/BBS/utils/build-universal.sh PolySTest_1.1.0.tar.gz /Library/Frameworks/R.framework/Resources/bin/R PolySTest.buildbin-libdir StartedAt: 2025-02-01 00:31:59 -0500 (Sat, 01 Feb 2025) EndedAt: 2025-02-01 00:32:36 -0500 (Sat, 01 Feb 2025) EllapsedTime: 37.0 seconds RetCode: 0 Status: OK PackageFile: PolySTest_1.1.0.tgz PackageFileSize: 2.275 MiB