Package: PhosR Version: 1.17.0 Command: /Library/Frameworks/R.framework/Resources/bin/R CMD INSTALL PhosR StartedAt: 2025-01-31 15:45:15 -0500 (Fri, 31 Jan 2025) EndedAt: 2025-01-31 15:45:52 -0500 (Fri, 31 Jan 2025) EllapsedTime: 37.5 seconds RetCode: 0 Status: OK