Package: PhosR Version: 1.17.0 Command: /home/biocbuild/R/R/bin/R CMD INSTALL PhosR StartedAt: 2025-01-29 20:33:43 -0000 (Wed, 29 Jan 2025) EndedAt: 2025-01-29 20:34:22 -0000 (Wed, 29 Jan 2025) EllapsedTime: 38.8 seconds RetCode: 0 Status: OK