Package: PhosR Version: 1.17.0 Command: /home/biocbuild/R/R/bin/R CMD check --install=check:PhosR.install-out.txt --library=/home/biocbuild/R/R/site-library --no-vignettes --timings PhosR_1.17.0.tar.gz StartedAt: 2025-01-28 13:54:15 -0000 (Tue, 28 Jan 2025) EndedAt: 2025-01-28 14:02:03 -0000 (Tue, 28 Jan 2025) EllapsedTime: 467.4 seconds RetCode: 1 Status: ERROR CheckDir: PhosR.Rcheck Warnings: NA