Package: PhosR Version: 1.17.0 Command: /Library/Frameworks/R.framework/Resources/bin/R CMD build --keep-empty-dirs --no-resave-data PhosR StartedAt: 2025-01-31 17:16:27 -0500 (Fri, 31 Jan 2025) EndedAt: 2025-01-31 17:17:35 -0500 (Fri, 31 Jan 2025) EllapsedTime: 67.9 seconds RetCode: 0 Status: OK PackageFile: PhosR_1.17.0.tar.gz PackageFileSize: 7.97 MiB