Package: PharmacoGx
Version: 3.11.1
Maintainer: Benjamin Haibe-Kains
MaintainerEmail: benjamin.haibe.kains at utoronto.ca
git_url: https://git.bioconductor.org/packages/PharmacoGx
git_branch: devel
git_last_commit: d1415db
git_last_commit_date: 2025-01-07 15:53:06 -0500 (Tue, 07 Jan 2025)