Package: PanomiR
Version: 1.11.0
Maintainer: Pourya Naderi
MaintainerEmail: pouryany at gmail.com
git_url: https://git.bioconductor.org/packages/PanomiR
git_branch: devel
git_last_commit: 747888b
git_last_commit_date: 2024-10-29 11:08:09 -0500 (Tue, 29 Oct 2024)