Package: PWMEnrich Version: 4.43.0 Command: E:\biocbuild\bbs-3.21-bioc\R\bin\R.exe CMD INSTALL PWMEnrich StartedAt: 2025-02-04 15:59:55 -0500 (Tue, 04 Feb 2025) EndedAt: 2025-02-04 16:00:54 -0500 (Tue, 04 Feb 2025) EllapsedTime: 58.8 seconds RetCode: 0 Status: OK