Package: PWMEnrich Version: 4.43.0 Command: E:\biocbuild\bbs-3.21-bioc\R\bin\R.exe CMD check --no-multiarch --install=check:PWMEnrich.install-out.txt --library=E:\biocbuild\bbs-3.21-bioc\R\library --no-vignettes --timings PWMEnrich_4.43.0.tar.gz StartedAt: 2025-02-05 04:46:47 -0500 (Wed, 05 Feb 2025) EndedAt: 2025-02-05 04:48:56 -0500 (Wed, 05 Feb 2025) EllapsedTime: 129.0 seconds RetCode: 0 Status: OK CheckDir: PWMEnrich.Rcheck Warnings: 0