Package: PROPER Version: 1.39.0 Command: /Library/Frameworks/R.framework/Resources/bin/R CMD build --keep-empty-dirs --no-resave-data PROPER StartedAt: 2025-01-31 17:52:18 -0500 (Fri, 31 Jan 2025) EndedAt: 2025-01-31 17:52:32 -0500 (Fri, 31 Jan 2025) EllapsedTime: 13.7 seconds RetCode: 0 Status: OK PackageFile: PROPER_1.39.0.tar.gz PackageFileSize: 1.8 MiB