Package: PROPER Version: 1.39.0 Command: /Library/Frameworks/R.framework/Resources/bin/R CMD INSTALL PROPER StartedAt: 2025-01-31 15:02:55 -0500 (Fri, 31 Jan 2025) EndedAt: 2025-01-31 15:02:57 -0500 (Fri, 31 Jan 2025) EllapsedTime: 1.4 seconds RetCode: 0 Status: OK