Package: OMICsPCA
Version: 1.25.0
Maintainer: Subhadeep Das
MaintainerEmail: subhadeep1024 at gmail.com
git_url: https://git.bioconductor.org/packages/OMICsPCA
git_branch: devel
git_last_commit: 1659da8
git_last_commit_date: 2024-10-29 10:31:48 -0500 (Tue, 29 Oct 2024)