Package: NormalyzerDE
Version: 1.25.0
Maintainer: Jakob Willforss
MaintainerEmail: jakob.willforss at hotmail.com
git_url: https://git.bioconductor.org/packages/NormalyzerDE
git_branch: devel
git_last_commit: cfe738a
git_last_commit_date: 2024-10-29 10:31:12 -0500 (Tue, 29 Oct 2024)