Package: NewWave
Version: 1.17.0
Command: /home/biocbuild/bbs-3.21-bioc/R/bin/R CMD INSTALL NewWave
StartedAt: 2025-02-19 15:51:19 -0500 (Wed, 19 Feb 2025)
EndedAt: 2025-02-19 15:51:46 -0500 (Wed, 19 Feb 2025)
EllapsedTime: 26.7 seconds
RetCode: 0
Status: OK