Package: NeuCA Version: 1.13.0 Command: E:\biocbuild\bbs-3.21-bioc\R\bin\R.exe CMD INSTALL NeuCA StartedAt: 2025-02-19 16:11:22 -0500 (Wed, 19 Feb 2025) EndedAt: 2025-02-19 16:11:56 -0500 (Wed, 19 Feb 2025) EllapsedTime: 34.3 seconds RetCode: 0 Status: OK