Package: NeuCA
Version: 1.13.0
Command: /home/biocbuild/bbs-3.21-bioc/R/bin/R CMD INSTALL NeuCA
StartedAt: 2025-02-19 15:23:33 -0500 (Wed, 19 Feb 2025)
EndedAt: 2025-02-19 15:23:58 -0500 (Wed, 19 Feb 2025)
EllapsedTime: 24.8 seconds
RetCode: 0
Status: OK