Package: NeuCA
Version: 1.13.0
Command: /home/biocbuild/R/R/bin/R CMD build --keep-empty-dirs --no-resave-data NeuCA
StartedAt: 2025-01-29 00:52:14 -0000 (Wed, 29 Jan 2025)
EndedAt: 2025-01-29 00:53:25 -0000 (Wed, 29 Jan 2025)
EllapsedTime: 71.1 seconds
RetCode: 1
Status: ERROR
PackageFile: None
PackageFileSize: NA