Package: NetSAM Version: 1.47.0 Command: /Library/Frameworks/R.framework/Resources/bin/R CMD INSTALL NetSAM StartedAt: 2025-02-19 15:24:45 -0500 (Wed, 19 Feb 2025) EndedAt: 2025-02-19 15:24:55 -0500 (Wed, 19 Feb 2025) EllapsedTime: 9.3 seconds RetCode: 0 Status: OK