Package: NetSAM
Version: 1.47.0
Command: /Library/Frameworks/R.framework/Resources/bin/R CMD check --install=check:NetSAM.install-out.txt --library=/Library/Frameworks/R.framework/Resources/library --no-vignettes --timings NetSAM_1.47.0.tar.gz
StartedAt: 2025-02-19 20:32:39 -0500 (Wed, 19 Feb 2025)
EndedAt: 2025-02-19 20:41:40 -0500 (Wed, 19 Feb 2025)
EllapsedTime: 540.5 seconds
RetCode: 0
Status: OK
CheckDir: NetSAM.Rcheck
Warnings: 0