Package: NetSAM
Version: 1.47.0
Command: /Library/Frameworks/R.framework/Resources/bin/R CMD build --keep-empty-dirs --no-resave-data NetSAM
StartedAt: 2025-02-19 17:08:17 -0500 (Wed, 19 Feb 2025)
EndedAt: 2025-02-19 17:08:31 -0500 (Wed, 19 Feb 2025)
EllapsedTime: 13.2 seconds
RetCode: 0
Status: OK
PackageFile: NetSAM_1.47.0.tar.gz
PackageFileSize: 1.033 <A href="http://en.wikipedia.org/wiki/MiB" target="_blank">MiB</A>