Package: NetSAM
Version: 1.47.0
Command: rm -rf NetSAM.buildbin-libdir && mkdir NetSAM.buildbin-libdir && /Users/biocbuild/BBS/utils/build-universal.sh NetSAM_1.47.0.tar.gz /Library/Frameworks/R.framework/Resources/bin/R NetSAM.buildbin-libdir
StartedAt: 2025-02-19 22:31:19 -0500 (Wed, 19 Feb 2025)
EndedAt: 2025-02-19 22:31:29 -0500 (Wed, 19 Feb 2025)
EllapsedTime: 10.2 seconds
RetCode: 0
Status: OK
PackageFile: NetSAM_1.47.0.tgz
PackageFileSize: 1.232 <A href="http://en.wikipedia.org/wiki/MiB" target="_blank">MiB</A>