Package: MsBackendMetaboLights
Version: 1.1.0
Command: E:\biocbuild\bbs-3.21-bioc\R\bin\R.exe CMD INSTALL MsBackendMetaboLights
StartedAt: 2025-02-19 15:40:02 -0500 (Wed, 19 Feb 2025)
EndedAt: 2025-02-19 15:41:22 -0500 (Wed, 19 Feb 2025)
EllapsedTime: 80.0 seconds
RetCode: 0
Status: OK