Package: MsBackendMetaboLights
Version: 1.1.0
Command: E:\biocbuild\bbs-3.21-bioc\R\bin\R.exe CMD check --no-multiarch --install=check:MsBackendMetaboLights.install-out.txt --library=E:\biocbuild\bbs-3.21-bioc\R\library --no-vignettes --timings MsBackendMetaboLights_1.1.0.tar.gz
StartedAt: 2025-02-20 03:17:13 -0500 (Thu, 20 Feb 2025)
EndedAt: 2025-02-20 03:25:04 -0500 (Thu, 20 Feb 2025)
EllapsedTime: 470.8 seconds
RetCode: 0
Status: OK
CheckDir: MsBackendMetaboLights.Rcheck
Warnings: 0