##############################################################################
##############################################################################
###
### Running command:
###
###   chmod a+r MsBackendMetaboLights -R && E:\biocbuild\bbs-3.21-bioc\R\bin\R.exe CMD build --keep-empty-dirs --no-resave-data MsBackendMetaboLights
###
##############################################################################
##############################################################################


* checking for file 'MsBackendMetaboLights/DESCRIPTION' ... OK
* preparing 'MsBackendMetaboLights':
* checking DESCRIPTION meta-information ... OK
* installing the package to build vignettes
* creating vignettes ... OK
* checking for LF line-endings in source and make files and shell scripts
* checking for empty or unneeded directories
* building 'MsBackendMetaboLights_1.1.0.tar.gz'