Package: MsBackendMetaboLights
Version: 1.1.0
Command: /Library/Frameworks/R.framework/Resources/bin/R CMD INSTALL MsBackendMetaboLights
StartedAt: 2025-02-19 15:13:55 -0500 (Wed, 19 Feb 2025)
EndedAt: 2025-02-19 15:14:13 -0500 (Wed, 19 Feb 2025)
EllapsedTime: 17.7 seconds
RetCode: 0
Status: OK