Package: MsBackendMetaboLights Version: 1.1.0 Command: /Library/Frameworks/R.framework/Resources/bin/R CMD build --keep-empty-dirs --no-resave-data MsBackendMetaboLights StartedAt: 2025-02-19 17:29:10 -0500 (Wed, 19 Feb 2025) EndedAt: 2025-02-19 17:29:56 -0500 (Wed, 19 Feb 2025) EllapsedTime: 45.8 seconds RetCode: 0 Status: OK PackageFile: MsBackendMetaboLights_1.1.0.tar.gz PackageFileSize: 308.3 <A href="http://en.wikipedia.org/wiki/KiB" target="_blank">KiB</A>