##############################################################################
##############################################################################
###
### Running command:
###
###   rm -rf MsBackendMetaboLights.buildbin-libdir && mkdir MsBackendMetaboLights.buildbin-libdir && /Users/biocbuild/BBS/utils/build-universal.sh MsBackendMetaboLights_1.1.0.tar.gz /Library/Frameworks/R.framework/Resources/bin/R MsBackendMetaboLights.buildbin-libdir
###
##############################################################################
##############################################################################


>>>>>>> 
>>>>>>> INSTALLATION WITH 'R CMD INSTALL --preclean --no-multiarch --library=MsBackendMetaboLights.buildbin-libdir MsBackendMetaboLights_1.1.0.tar.gz'
>>>>>>> 

* installing *source* package ‘MsBackendMetaboLights’ ...
** this is package ‘MsBackendMetaboLights’ version ‘1.1.0’
** using staged installation
** R
** inst
** byte-compile and prepare package for lazy loading
** help
*** installing help indices
** building package indices
** installing vignettes
** testing if installed package can be loaded from temporary location
** testing if installed package can be loaded from final location
** testing if installed package keeps a record of temporary installation path
* DONE (MsBackendMetaboLights)