Package: MotifPeeker
Version: 0.99.13
Maintainer: Hiranyamaya Dash
MaintainerEmail: hdash.work at gmail.com
git_url: https://git.bioconductor.org/packages/MotifPeeker
git_branch: devel
git_last_commit: 665ef16
git_last_commit_date: 2025-01-06 06:01:59 -0500 (Mon, 06 Jan 2025)