Package: MoleculeExperiment
Version: 1.7.0
Maintainer: Shila Ghazanfar
MaintainerEmail: shazanfar at gmail.com
git_url: https://git.bioconductor.org/packages/MoleculeExperiment
git_branch: devel
git_last_commit: d50404d
git_last_commit_date: 2024-10-29 11:20:12 -0500 (Tue, 29 Oct 2024)