Package: MiPP
Version: 1.79.0
Command: E:\biocbuild\bbs-3.21-bioc\R\bin\R.exe CMD INSTALL MiPP
StartedAt: 2025-02-19 15:25:23 -0500 (Wed, 19 Feb 2025)
EndedAt: 2025-02-19 15:25:42 -0500 (Wed, 19 Feb 2025)
EllapsedTime: 19.3 seconds
RetCode: 0
Status: OK