Package: MiPP Version: 1.79.0 Command: E:\biocbuild\bbs-3.21-bioc\R\bin\R.exe CMD check --no-multiarch --install=check:MiPP.install-out.txt --library=E:\biocbuild\bbs-3.21-bioc\R\library --no-vignettes --timings MiPP_1.79.0.tar.gz StartedAt: 2025-02-20 03:01:23 -0500 (Thu, 20 Feb 2025) EndedAt: 2025-02-20 03:02:51 -0500 (Thu, 20 Feb 2025) EllapsedTime: 88.1 seconds RetCode: 0 Status: OK CheckDir: MiPP.Rcheck Warnings: 0