Package: MiPP
Version: 1.79.0
Command: chmod a+r MiPP -R && E:\biocbuild\bbs-3.21-bioc\R\bin\R.exe CMD build --keep-empty-dirs --no-resave-data MiPP
StartedAt: 2025-02-19 19:57:03 -0500 (Wed, 19 Feb 2025)
EndedAt: 2025-02-19 19:57:20 -0500 (Wed, 19 Feb 2025)
EllapsedTime: 17.8 seconds
RetCode: 0
Status: OK
PackageFile: MiPP_1.79.0.tar.gz
PackageFileSize: 319.4 <A href="http://en.wikipedia.org/wiki/KiB" target="_blank">KiB</A>