Package: MiPP
Version: 1.79.0
Command: rm -rf MiPP.buildbin-libdir && mkdir MiPP.buildbin-libdir && E:\biocbuild\bbs-3.21-bioc\R\bin\R.exe CMD INSTALL --build --library=MiPP.buildbin-libdir MiPP_1.79.0.tar.gz
StartedAt: 2025-02-20 08:12:01 -0500 (Thu, 20 Feb 2025)
EndedAt: 2025-02-20 08:12:14 -0500 (Thu, 20 Feb 2025)
EllapsedTime: 13.0 seconds
RetCode: 0
Status: OK
PackageFile: MiPP_1.79.0.zip
PackageFileSize: 379.6 <A href="http://en.wikipedia.org/wiki/KiB" target="_blank">KiB</A>