Package: MiPP Version: 1.79.0 Command: /home/biocbuild/bbs-3.21-bioc/R/bin/R CMD check --install=check:MiPP.install-out.txt --library=/home/biocbuild/bbs-3.21-bioc/R/site-library --timings MiPP_1.79.0.tar.gz StartedAt: 2025-02-05 00:18:48 -0500 (Wed, 05 Feb 2025) EndedAt: 2025-02-05 00:20:01 -0500 (Wed, 05 Feb 2025) EllapsedTime: 73.1 seconds RetCode: 0 Status: OK CheckDir: MiPP.Rcheck Warnings: 0