Package: MiPP
Version: 1.79.0
Command: /home/biocbuild/R/R/bin/R CMD INSTALL MiPP
StartedAt: 2025-01-29 19:31:16 -0000 (Wed, 29 Jan 2025)
EndedAt: 2025-01-29 19:31:27 -0000 (Wed, 29 Jan 2025)
EllapsedTime: 10.5 seconds
RetCode: 0
Status: OK