Package: MiPP
Version: 1.79.0
Command: /home/biocbuild/R/R/bin/R CMD check --install=check:MiPP.install-out.txt --library=/home/biocbuild/R/R/site-library --no-vignettes --timings MiPP_1.79.0.tar.gz
StartedAt: 2025-01-28 12:30:33 -0000 (Tue, 28 Jan 2025)
EndedAt: 2025-01-28 12:32:09 -0000 (Tue, 28 Jan 2025)
EllapsedTime: 95.1 seconds
RetCode: 0
Status: OK
CheckDir: MiPP.Rcheck
Warnings: 0