Package: MethylMix
Version: 2.37.0
Maintainer: Olivier Gevaert
MaintainerEmail: olivier.gevaert at gmail.com
git_url: https://git.bioconductor.org/packages/MethylMix
git_branch: devel
git_last_commit: 6007130
git_last_commit_date: 2024-10-29 09:54:20 -0500 (Tue, 29 Oct 2024)